BEGIN:VCALENDAR
VERSION:2.0
PRODID:-//Rotary Club of Rancho Viejo - ECPv6.15.20//NONSGML v1.0//EN
CALSCALE:GREGORIAN
METHOD:PUBLISH
X-WR-CALNAME:Rotary Club of Rancho Viejo
X-ORIGINAL-URL:https://ranchoviejorotary.org
X-WR-CALDESC:Events for Rotary Club of Rancho Viejo
REFRESH-INTERVAL;VALUE=DURATION:PT1H
X-Robots-Tag:noindex
X-PUBLISHED-TTL:PT1H
BEGIN:VTIMEZONE
TZID:UTC
BEGIN:STANDARD
TZOFFSETFROM:+0000
TZOFFSETTO:+0000
TZNAME:UTC
DTSTART:20240101T000000
END:STANDARD
END:VTIMEZONE
BEGIN:VEVENT
DTSTART;TZID=UTC:20250814T190000
DTEND;TZID=UTC:20250814T200000
DTSTAMP:20260421T153817
CREATED:20250704T145157Z
LAST-MODIFIED:20250704T145157Z
UID:2874-1755198000-1755201600@ranchoviejorotary.org
SUMMARY:Monthly board meeting
DESCRIPTION:
URL:https://ranchoviejorotary.org/event/monthly-board-meeting-3/
END:VEVENT
BEGIN:VEVENT
DTSTART;TZID=UTC:20250812T180000
DTEND;TZID=UTC:20250812T190000
DTSTAMP:20260421T153817
CREATED:20250704T144937Z
LAST-MODIFIED:20250704T144937Z
UID:2868-1755021600-1755025200@ranchoviejorotary.org
SUMMARY:No meeting
DESCRIPTION:
URL:https://ranchoviejorotary.org/event/no-meeting-4/
END:VEVENT
BEGIN:VEVENT
DTSTART;TZID=UTC:20250805T180000
DTEND;TZID=UTC:20250805T190000
DTSTAMP:20260421T153817
CREATED:20250704T144846Z
LAST-MODIFIED:20250704T144846Z
UID:2866-1754416800-1754420400@ranchoviejorotary.org
SUMMARY:Weekly meeting
DESCRIPTION:
URL:https://ranchoviejorotary.org/event/weekly-meeting-28/
END:VEVENT
BEGIN:VEVENT
DTSTART;VALUE=DATE:20250801
DTEND;VALUE=DATE:20250803
DTSTAMP:20260421T153817
CREATED:20250704T150739Z
LAST-MODIFIED:20250704T150739Z
UID:2904-1754006400-1754179199@ranchoviejorotary.org
SUMMARY:RMDTI - Rotary Multi-District Training Institute
DESCRIPTION:https://rmdti.org/
URL:https://ranchoviejorotary.org/event/rmdti-rotary-multi-district-training-institute/
END:VEVENT
BEGIN:VEVENT
DTSTART;TZID=UTC:20250729T180000
DTEND;TZID=UTC:20250729T190000
DTSTAMP:20260421T153817
CREATED:20250704T144632Z
LAST-MODIFIED:20250704T144632Z
UID:2861-1753812000-1753815600@ranchoviejorotary.org
SUMMARY:Weekly meeting
DESCRIPTION:
URL:https://ranchoviejorotary.org/event/weekly-meeting-27/
END:VEVENT
BEGIN:VEVENT
DTSTART;TZID=UTC:20250722T180000
DTEND;TZID=UTC:20250722T190000
DTSTAMP:20260421T153817
CREATED:20250704T144558Z
LAST-MODIFIED:20250704T144558Z
UID:2859-1753207200-1753210800@ranchoviejorotary.org
SUMMARY:Weekly meeting
DESCRIPTION:
URL:https://ranchoviejorotary.org/event/weekly-meeting-26/
END:VEVENT
BEGIN:VEVENT
DTSTART;TZID=UTC:20250715T180000
DTEND;TZID=UTC:20250715T190000
DTSTAMP:20260421T153817
CREATED:20250704T144522Z
LAST-MODIFIED:20250704T144522Z
UID:2857-1752602400-1752606000@ranchoviejorotary.org
SUMMARY:Weekly meeting
DESCRIPTION:
URL:https://ranchoviejorotary.org/event/weekly-meeting-25/
END:VEVENT
BEGIN:VEVENT
DTSTART;TZID=UTC:20250710T190000
DTEND;TZID=UTC:20250710T200000
DTSTAMP:20260421T153817
CREATED:20250704T145104Z
LAST-MODIFIED:20250704T145104Z
UID:2872-1752174000-1752177600@ranchoviejorotary.org
SUMMARY:Monthly board meeting
DESCRIPTION:
URL:https://ranchoviejorotary.org/event/monthly-board-meeting-2/
END:VEVENT
BEGIN:VEVENT
DTSTART;TZID=UTC:20250708T180000
DTEND;TZID=UTC:20250708T190000
DTSTAMP:20260421T153817
CREATED:20250707T131905Z
LAST-MODIFIED:20250707T131905Z
UID:2925-1751997600-1752001200@ranchoviejorotary.org
SUMMARY:No weekly meeting
DESCRIPTION:
URL:https://ranchoviejorotary.org/event/no-weekly-meeting/
END:VEVENT
BEGIN:VEVENT
DTSTART;TZID=UTC:20250701T180000
DTEND;TZID=UTC:20250701T200000
DTSTAMP:20260421T153817
CREATED:20250704T144719Z
LAST-MODIFIED:20250704T144813Z
UID:2863-1751392800-1751400000@ranchoviejorotary.org
SUMMARY:Club installation dinner
DESCRIPTION:
URL:https://ranchoviejorotary.org/event/monthly-board-meeting/
END:VEVENT
BEGIN:VEVENT
DTSTART;TZID=UTC:20250617T180000
DTEND;TZID=UTC:20250617T190000
DTSTAMP:20260421T153817
CREATED:20250402T023053Z
LAST-MODIFIED:20250402T023053Z
UID:2783-1750183200-1750186800@ranchoviejorotary.org
SUMMARY:Weekly meeting
DESCRIPTION:
URL:https://ranchoviejorotary.org/event/weekly-meeting-24/
END:VEVENT
BEGIN:VEVENT
DTSTART;TZID=UTC:20250607T093000
DTEND;TZID=UTC:20250607T120000
DTSTAMP:20260421T153817
CREATED:20250522T192131Z
LAST-MODIFIED:20250522T192131Z
UID:2805-1749288600-1749297600@ranchoviejorotary.org
SUMMARY:Mental health fair - DHS Brownsville location
DESCRIPTION:
URL:https://ranchoviejorotary.org/event/mental-health-fair-dhs-brownsville-location/
END:VEVENT
BEGIN:VEVENT
DTSTART;TZID=UTC:20250603T180000
DTEND;TZID=UTC:20250603T190000
DTSTAMP:20260421T153817
CREATED:20250402T023003Z
LAST-MODIFIED:20250402T023003Z
UID:2781-1748973600-1748977200@ranchoviejorotary.org
SUMMARY:Weekly meeting
DESCRIPTION:
URL:https://ranchoviejorotary.org/event/weekly-meeting-23/
END:VEVENT
BEGIN:VEVENT
DTSTART;TZID=UTC:20250531T090000
DTEND;TZID=UTC:20250531T150000
DTSTAMP:20260421T153817
CREATED:20250514T144353Z
LAST-MODIFIED:20250526T172834Z
UID:2803-1748682000-1748703600@ranchoviejorotary.org
SUMMARY:District Assembly and District Installation\, McAllen\, TX
DESCRIPTION:
URL:https://ranchoviejorotary.org/event/district-assembly/
END:VEVENT
BEGIN:VEVENT
DTSTART;TZID=UTC:20250527T180000
DTEND;TZID=UTC:20250527T190000
DTSTAMP:20260421T153817
CREATED:20250402T022931Z
LAST-MODIFIED:20250402T022931Z
UID:2779-1748368800-1748372400@ranchoviejorotary.org
SUMMARY:Weekly meeting
DESCRIPTION:
URL:https://ranchoviejorotary.org/event/weekly-meeting-22/
END:VEVENT
BEGIN:VEVENT
DTSTART;TZID=UTC:20250520T180000
DTEND;TZID=UTC:20250520T190000
DTSTAMP:20260421T153817
CREATED:20250402T022902Z
LAST-MODIFIED:20250402T022902Z
UID:2777-1747764000-1747767600@ranchoviejorotary.org
SUMMARY:Weekly meeting
DESCRIPTION:
URL:https://ranchoviejorotary.org/event/weekly-meeting-21/
END:VEVENT
BEGIN:VEVENT
DTSTART;TZID=UTC:20250517T180000
DTEND;TZID=UTC:20250517T200000
DTSTAMP:20260421T153817
CREATED:20250514T144237Z
LAST-MODIFIED:20250514T144237Z
UID:2801-1747504800-1747512000@ranchoviejorotary.org
SUMMARY:Paella Club Social
DESCRIPTION:
URL:https://ranchoviejorotary.org/event/paella-club-social/
END:VEVENT
BEGIN:VEVENT
DTSTART;TZID=UTC:20250506T180000
DTEND;TZID=UTC:20250506T190000
DTSTAMP:20260421T153817
CREATED:20250402T022836Z
LAST-MODIFIED:20250402T022836Z
UID:2775-1746554400-1746558000@ranchoviejorotary.org
SUMMARY:Weekly meeting
DESCRIPTION:
URL:https://ranchoviejorotary.org/event/weekly-meeting-20/
END:VEVENT
BEGIN:VEVENT
DTSTART;TZID=UTC:20250429T180000
DTEND;TZID=UTC:20250429T190000
DTSTAMP:20260421T153817
CREATED:20250402T022803Z
LAST-MODIFIED:20250402T022803Z
UID:2773-1745949600-1745953200@ranchoviejorotary.org
SUMMARY:Weekly meeting
DESCRIPTION:
URL:https://ranchoviejorotary.org/event/weekly-meeting-19/
END:VEVENT
BEGIN:VEVENT
DTSTART;VALUE=DATE:20250424
DTEND;VALUE=DATE:20250428
DTSTAMP:20260421T153817
CREATED:20250225T181644Z
LAST-MODIFIED:20250225T181644Z
UID:2567-1745452800-1745798399@ranchoviejorotary.org
SUMMARY:District Conference - Corpus Christi\, TX
DESCRIPTION:
URL:https://ranchoviejorotary.org/event/district-conference-corpus-christi-tx/
END:VEVENT
BEGIN:VEVENT
DTSTART;TZID=UTC:20250422T180000
DTEND;TZID=UTC:20250422T190000
DTSTAMP:20260421T153817
CREATED:20250402T022737Z
LAST-MODIFIED:20250402T022737Z
UID:2771-1745344800-1745348400@ranchoviejorotary.org
SUMMARY:Weekly meeting
DESCRIPTION:
URL:https://ranchoviejorotary.org/event/weekly-meeting-18/
END:VEVENT
BEGIN:VEVENT
DTSTART;VALUE=DATE:20250422
DTEND;VALUE=DATE:20250423
DTSTAMP:20260421T153817
CREATED:20250402T023228Z
LAST-MODIFIED:20250402T023228Z
UID:2787-1745280000-1745366399@ranchoviejorotary.org
SUMMARY:Earth Day
DESCRIPTION:
URL:https://ranchoviejorotary.org/event/earth-day/
END:VEVENT
BEGIN:VEVENT
DTSTART;VALUE=DATE:20250420
DTEND;VALUE=DATE:20250421
DTSTAMP:20260421T153817
CREATED:20250402T023150Z
LAST-MODIFIED:20250402T023150Z
UID:2785-1745107200-1745193599@ranchoviejorotary.org
SUMMARY:Easter Sunday
DESCRIPTION:
URL:https://ranchoviejorotary.org/event/easter-sunday/
END:VEVENT
BEGIN:VEVENT
DTSTART;TZID=UTC:20250419T160000
DTEND;TZID=UTC:20250419T180000
DTSTAMP:20260421T153817
CREATED:20250402T023423Z
LAST-MODIFIED:20250402T023423Z
UID:2793-1745078400-1745085600@ranchoviejorotary.org
SUMMARY:Tentative Social
DESCRIPTION:
URL:https://ranchoviejorotary.org/event/tentative-social/
END:VEVENT
BEGIN:VEVENT
DTSTART;VALUE=DATE:20250418
DTEND;VALUE=DATE:20250419
DTSTAMP:20260421T153817
CREATED:20250402T024015Z
LAST-MODIFIED:20250402T024015Z
UID:2795-1744934400-1745020799@ranchoviejorotary.org
SUMMARY:Good Friday
DESCRIPTION:
URL:https://ranchoviejorotary.org/event/good-friday/
END:VEVENT
BEGIN:VEVENT
DTSTART;TZID=UTC:20250415T180000
DTEND;TZID=UTC:20250415T190000
DTSTAMP:20260421T153817
CREATED:20250402T022635Z
LAST-MODIFIED:20250402T022701Z
UID:2768-1744740000-1744743600@ranchoviejorotary.org
SUMMARY:Weekly meeting
DESCRIPTION:
URL:https://ranchoviejorotary.org/event/regular-club-meeting/
END:VEVENT
BEGIN:VEVENT
DTSTART;VALUE=DATE:20250414
DTEND;VALUE=DATE:20250415
DTSTAMP:20260421T153817
CREATED:20250402T023321Z
LAST-MODIFIED:20250402T023321Z
UID:2789-1744588800-1744675199@ranchoviejorotary.org
SUMMARY:Ana Lozano - Happy Birthday
DESCRIPTION:
URL:https://ranchoviejorotary.org/event/ana-lozano-happy-birthday/
END:VEVENT
BEGIN:VEVENT
DTSTART;VALUE=DATE:20250412
DTEND;VALUE=DATE:20250413
DTSTAMP:20260421T153817
CREATED:20250402T023351Z
LAST-MODIFIED:20250402T023351Z
UID:2791-1744416000-1744502399@ranchoviejorotary.org
SUMMARY:First Night of Passover
DESCRIPTION:
URL:https://ranchoviejorotary.org/event/first-night-of-passover/
END:VEVENT
BEGIN:VEVENT
DTSTART;VALUE=DATE:20250406
DTEND;VALUE=DATE:20250407
DTSTAMP:20260421T153817
CREATED:20250402T024205Z
LAST-MODIFIED:20250402T024205Z
UID:2797-1743897600-1743983999@ranchoviejorotary.org
SUMMARY:"When you're trying to rebuild a society\, what's the first thing you do? You have to build camaraderie\, You have to build trust. Rotary clubs do that." Howard Buffet
DESCRIPTION:
URL:https://ranchoviejorotary.org/event/when-youre-trying-to-rebuild-a-society-whats-the-first-thing-you-do-you-have-to-build-camaraderie-you-have-to-build-trust-rotary-clubs-do-that-howard-buffet/
END:VEVENT
BEGIN:VEVENT
DTSTART;TZID=UTC:20250402T170000
DTEND;TZID=UTC:20250402T190000
DTSTAMP:20260421T153817
CREATED:20250331T155426Z
LAST-MODIFIED:20250331T155426Z
UID:2762-1743613200-1743620400@ranchoviejorotary.org
SUMMARY:Shrimp or Fish Fry Fundraiser
DESCRIPTION:
URL:https://ranchoviejorotary.org/event/shrimp-or-fish-fry-fundraiser/
END:VEVENT
END:VCALENDAR