BEGIN:VCALENDAR
VERSION:2.0
PRODID:-//Rotary Club of Rancho Viejo - ECPv6.15.20//NONSGML v1.0//EN
CALSCALE:GREGORIAN
METHOD:PUBLISH
X-ORIGINAL-URL:https://ranchoviejorotary.org
X-WR-CALDESC:Events for Rotary Club of Rancho Viejo
REFRESH-INTERVAL;VALUE=DURATION:PT1H
X-Robots-Tag:noindex
X-PUBLISHED-TTL:PT1H
BEGIN:VTIMEZONE
TZID:UTC
BEGIN:STANDARD
TZOFFSETFROM:+0000
TZOFFSETTO:+0000
TZNAME:UTC
DTSTART:20240101T000000
END:STANDARD
END:VTIMEZONE
BEGIN:VEVENT
DTSTART;TZID=UTC:20250819T180000
DTEND;TZID=UTC:20250819T190000
DTSTAMP:20260421T153355
CREATED:20250704T145008Z
LAST-MODIFIED:20250704T145008Z
UID:2870-1755626400-1755630000@ranchoviejorotary.org
SUMMARY:Weekly meeting
DESCRIPTION:
URL:https://ranchoviejorotary.org/event/weekly-meeting-29/
END:VEVENT
BEGIN:VEVENT
DTSTART;TZID=UTC:20250823T100000
DTEND;TZID=UTC:20250823T120000
DTSTAMP:20260421T153355
CREATED:20250805T231804Z
LAST-MODIFIED:20250805T231804Z
UID:2951-1755943200-1755950400@ranchoviejorotary.org
SUMMARY:Bread Pudding Service Project
DESCRIPTION:
URL:https://ranchoviejorotary.org/event/bread-pudding-service-project/
END:VEVENT
BEGIN:VEVENT
DTSTART;TZID=UTC:20250826T180000
DTEND;TZID=UTC:20250826T190000
DTSTAMP:20260421T153355
CREATED:20250704T145315Z
LAST-MODIFIED:20250704T145315Z
UID:2878-1756231200-1756234800@ranchoviejorotary.org
SUMMARY:Weekly club meeting
DESCRIPTION:
URL:https://ranchoviejorotary.org/event/weekly-club-meeting/
END:VEVENT
BEGIN:VEVENT
DTSTART;TZID=UTC:20250829T180000
DTEND;TZID=UTC:20250829T210000
DTSTAMP:20260421T153355
CREATED:20250805T232036Z
LAST-MODIFIED:20250805T232626Z
UID:2953-1756490400-1756501200@ranchoviejorotary.org
SUMMARY:Loteria for a cause
DESCRIPTION:
URL:https://ranchoviejorotary.org/event/loteria-for-a-cause/
END:VEVENT
BEGIN:VEVENT
DTSTART;TZID=UTC:20250902T180000
DTEND;TZID=UTC:20250902T190000
DTSTAMP:20260421T153355
CREATED:20250704T145425Z
LAST-MODIFIED:20250704T145522Z
UID:2880-1756836000-1756839600@ranchoviejorotary.org
SUMMARY:Weekly club meeting
DESCRIPTION:
URL:https://ranchoviejorotary.org/event/no-club-meeting/
END:VEVENT
BEGIN:VEVENT
DTSTART;TZID=UTC:20250909T180000
DTEND;TZID=UTC:20250909T190000
DTSTAMP:20260421T153355
CREATED:20250704T145639Z
LAST-MODIFIED:20250704T145639Z
UID:2885-1757440800-1757444400@ranchoviejorotary.org
SUMMARY:No club meeting
DESCRIPTION:
URL:https://ranchoviejorotary.org/event/no-club-meeting-2/
END:VEVENT
BEGIN:VEVENT
DTSTART;TZID=UTC:20250911T190000
DTEND;TZID=UTC:20250911T200000
DTSTAMP:20260421T153355
CREATED:20250704T145244Z
LAST-MODIFIED:20250704T145244Z
UID:2876-1757617200-1757620800@ranchoviejorotary.org
SUMMARY:Monthly board meeting
DESCRIPTION:
URL:https://ranchoviejorotary.org/event/monthly-board-meeting-4/
END:VEVENT
BEGIN:VEVENT
DTSTART;TZID=UTC:20250916T180000
DTEND;TZID=UTC:20250916T190000
DTSTAMP:20260421T153355
CREATED:20250704T145558Z
LAST-MODIFIED:20250704T145558Z
UID:2883-1758045600-1758049200@ranchoviejorotary.org
SUMMARY:Weekly club meeting
DESCRIPTION:
URL:https://ranchoviejorotary.org/event/weekly-club-meeting-2/
END:VEVENT
BEGIN:VEVENT
DTSTART;TZID=UTC:20250923T180000
DTEND;TZID=UTC:20250923T190000
DTSTAMP:20260421T153355
CREATED:20250704T150251Z
LAST-MODIFIED:20250704T150251Z
UID:2890-1758650400-1758654000@ranchoviejorotary.org
SUMMARY:Weekly club meeting
DESCRIPTION:
URL:https://ranchoviejorotary.org/event/weekly-club-meeting-3/
END:VEVENT
BEGIN:VEVENT
DTSTART;TZID=UTC:20250930T180000
DTEND;TZID=UTC:20250930T190000
DTSTAMP:20260421T153355
CREATED:20250704T150320Z
LAST-MODIFIED:20250704T150344Z
UID:2892-1759255200-1759258800@ranchoviejorotary.org
SUMMARY:Weekly club meeting
DESCRIPTION:
URL:https://ranchoviejorotary.org/event/weekly-club-meeting-4/
END:VEVENT
BEGIN:VEVENT
DTSTART;TZID=UTC:20251007T180000
DTEND;TZID=UTC:20251007T190000
DTSTAMP:20260421T153355
CREATED:20250915T145441Z
LAST-MODIFIED:20250915T145441Z
UID:2958-1759860000-1759863600@ranchoviejorotary.org
SUMMARY:Weekly Club meeting
DESCRIPTION:
URL:https://ranchoviejorotary.org/event/weekly-club-meeting-5/
END:VEVENT
BEGIN:VEVENT
DTSTART;TZID=UTC:20251015T180000
DTEND;TZID=UTC:20251015T190000
DTSTAMP:20260421T153355
CREATED:20250930T232105Z
LAST-MODIFIED:20250930T232105Z
UID:2992-1760551200-1760554800@ranchoviejorotary.org
SUMMARY:Club Board meeting
DESCRIPTION:
URL:https://ranchoviejorotary.org/event/club-board-meeting-3/
END:VEVENT
BEGIN:VEVENT
DTSTART;TZID=UTC:20251016T180000
DTEND;TZID=UTC:20251016T210000
DTSTAMP:20260421T153355
CREATED:20250915T145546Z
LAST-MODIFIED:20250915T145546Z
UID:2960-1760637600-1760648400@ranchoviejorotary.org
SUMMARY:Loteria
DESCRIPTION:
URL:https://ranchoviejorotary.org/event/loteria/
END:VEVENT
BEGIN:VEVENT
DTSTART;TZID=UTC:20251018T080000
DTEND;TZID=UTC:20251018T170000
DTSTAMP:20260421T153355
CREATED:20250915T145724Z
LAST-MODIFIED:20250915T145724Z
UID:2962-1760774400-1760806800@ranchoviejorotary.org
SUMMARY:District Peace Summit
DESCRIPTION:
URL:https://ranchoviejorotary.org/event/district-peace-summit/
END:VEVENT
BEGIN:VEVENT
DTSTART;TZID=UTC:20251021T180000
DTEND;TZID=UTC:20251021T190000
DTSTAMP:20260421T153355
CREATED:20250915T150205Z
LAST-MODIFIED:20250915T150205Z
UID:2964-1761069600-1761073200@ranchoviejorotary.org
SUMMARY:Weekly Club Meeting
DESCRIPTION:
URL:https://ranchoviejorotary.org/event/weekly-club-meeting-6/
END:VEVENT
BEGIN:VEVENT
DTSTART;TZID=UTC:20251028T180000
DTEND;TZID=UTC:20251028T190000
DTSTAMP:20260421T153355
CREATED:20250915T150235Z
LAST-MODIFIED:20250915T150235Z
UID:2966-1761674400-1761678000@ranchoviejorotary.org
SUMMARY:Weekly Club Meeting
DESCRIPTION:
URL:https://ranchoviejorotary.org/event/weekly-club-meeting-7/
END:VEVENT
BEGIN:VEVENT
DTSTART;TZID=UTC:20251031T170000
DTEND;TZID=UTC:20251031T200000
DTSTAMP:20260421T153355
CREATED:20250915T150344Z
LAST-MODIFIED:20250915T150344Z
UID:2968-1761930000-1761940800@ranchoviejorotary.org
SUMMARY:Trunk or Treat
DESCRIPTION:
URL:https://ranchoviejorotary.org/event/trunk-or-treat/
END:VEVENT
BEGIN:VEVENT
DTSTART;TZID=UTC:20251104T180000
DTEND;TZID=UTC:20251104T190000
DTSTAMP:20260421T153355
CREATED:20250915T150446Z
LAST-MODIFIED:20250915T150446Z
UID:2970-1762279200-1762282800@ranchoviejorotary.org
SUMMARY:Weekly Club Meeting
DESCRIPTION:
URL:https://ranchoviejorotary.org/event/weekly-club-meeting-8/
END:VEVENT
BEGIN:VEVENT
DTSTART;VALUE=DATE:20251111
DTEND;VALUE=DATE:20251112
DTSTAMP:20260421T153355
CREATED:20250915T160621Z
LAST-MODIFIED:20250915T160621Z
UID:2988-1762819200-1762905599@ranchoviejorotary.org
SUMMARY:Veterans Day
DESCRIPTION:
URL:https://ranchoviejorotary.org/event/veterans-day/
END:VEVENT
BEGIN:VEVENT
DTSTART;TZID=UTC:20251112T180000
DTEND;TZID=UTC:20251112T190000
DTSTAMP:20260421T153355
CREATED:20250915T150633Z
LAST-MODIFIED:20250915T150633Z
UID:2972-1762970400-1762974000@ranchoviejorotary.org
SUMMARY:Monthly Board Meeting
DESCRIPTION:
URL:https://ranchoviejorotary.org/event/monthly-board-meeting-5/
END:VEVENT
BEGIN:VEVENT
DTSTART;TZID=UTC:20251118T180000
DTEND;TZID=UTC:20251118T190000
DTSTAMP:20260421T153355
CREATED:20250915T151219Z
LAST-MODIFIED:20250915T151219Z
UID:2986-1763488800-1763492400@ranchoviejorotary.org
SUMMARY:Weekly Club Meeting
DESCRIPTION:
URL:https://ranchoviejorotary.org/event/weekly-club-meeting-11/
END:VEVENT
BEGIN:VEVENT
DTSTART;VALUE=DATE:20251127
DTEND;VALUE=DATE:20251128
DTSTAMP:20260421T153355
CREATED:20250915T150710Z
LAST-MODIFIED:20250915T150710Z
UID:2974-1764201600-1764287999@ranchoviejorotary.org
SUMMARY:Happy Thanksgiving
DESCRIPTION:
URL:https://ranchoviejorotary.org/event/happy-thanksgiving/
END:VEVENT
BEGIN:VEVENT
DTSTART;TZID=UTC:20251202T180000
DTEND;TZID=UTC:20251202T190000
DTSTAMP:20260421T153355
CREATED:20250915T150750Z
LAST-MODIFIED:20250915T150750Z
UID:2976-1764698400-1764702000@ranchoviejorotary.org
SUMMARY:Weekly Club Meeting
DESCRIPTION:
URL:https://ranchoviejorotary.org/event/weekly-club-meeting-9/
END:VEVENT
BEGIN:VEVENT
DTSTART;TZID=UTC:20251209T180000
DTEND;TZID=UTC:20251209T210000
DTSTAMP:20260421T153355
CREATED:20251203T231433Z
LAST-MODIFIED:20251203T231433Z
UID:2999-1765303200-1765314000@ranchoviejorotary.org
SUMMARY:Club Christmas Party
DESCRIPTION:
URL:https://ranchoviejorotary.org/event/club-christmas-party/
END:VEVENT
BEGIN:VEVENT
DTSTART;TZID=UTC:20251210T180000
DTEND;TZID=UTC:20251210T190000
DTSTAMP:20260421T153355
CREATED:20250915T150836Z
LAST-MODIFIED:20250915T150836Z
UID:2978-1765389600-1765393200@ranchoviejorotary.org
SUMMARY:Monthly Board Meeting
DESCRIPTION:
URL:https://ranchoviejorotary.org/event/monthly-board-meeting-6/
END:VEVENT
BEGIN:VEVENT
DTSTART;TZID=UTC:20251216T180000
DTEND;TZID=UTC:20251216T190000
DTSTAMP:20260421T153355
CREATED:20250915T150919Z
LAST-MODIFIED:20250915T150919Z
UID:2980-1765908000-1765911600@ranchoviejorotary.org
SUMMARY:Weekly Club Meeting
DESCRIPTION:
URL:https://ranchoviejorotary.org/event/weekly-club-meeting-10/
END:VEVENT
BEGIN:VEVENT
DTSTART;VALUE=DATE:20251225
DTEND;VALUE=DATE:20251226
DTSTAMP:20260421T153355
CREATED:20250915T151005Z
LAST-MODIFIED:20250915T151005Z
UID:2982-1766620800-1766707199@ranchoviejorotary.org
SUMMARY:Merry Christmas
DESCRIPTION:
URL:https://ranchoviejorotary.org/event/merry-christmas-2/
END:VEVENT
BEGIN:VEVENT
DTSTART;TZID=UTC:20251230T153000
DTEND;TZID=UTC:20251230T180000
DTSTAMP:20260421T153355
CREATED:20251203T231219Z
LAST-MODIFIED:20251203T231219Z
UID:2995-1767108600-1767117600@ranchoviejorotary.org
SUMMARY:Good Neighbor Settlement House
DESCRIPTION:
URL:https://ranchoviejorotary.org/event/good-neighbor-settlement-house/
END:VEVENT
BEGIN:VEVENT
DTSTART;VALUE=DATE:20251231
DTEND;VALUE=DATE:20260101
DTSTAMP:20260421T153355
CREATED:20250915T151049Z
LAST-MODIFIED:20250915T151049Z
UID:2984-1767139200-1767225599@ranchoviejorotary.org
SUMMARY:New Year's Eve
DESCRIPTION:
URL:https://ranchoviejorotary.org/event/new-years-eve-2/
END:VEVENT
END:VCALENDAR