BEGIN:VCALENDAR
VERSION:2.0
PRODID:-//Rotary Club of Rancho Viejo - ECPv6.15.20//NONSGML v1.0//EN
CALSCALE:GREGORIAN
METHOD:PUBLISH
X-WR-CALNAME:Rotary Club of Rancho Viejo
X-ORIGINAL-URL:https://ranchoviejorotary.org
X-WR-CALDESC:Events for Rotary Club of Rancho Viejo
REFRESH-INTERVAL;VALUE=DURATION:PT1H
X-Robots-Tag:noindex
X-PUBLISHED-TTL:PT1H
BEGIN:VTIMEZONE
TZID:UTC
BEGIN:STANDARD
TZOFFSETFROM:+0000
TZOFFSETTO:+0000
TZNAME:UTC
DTSTART:20230101T000000
END:STANDARD
END:VTIMEZONE
BEGIN:VEVENT
DTSTART;TZID=UTC:20241201T080000
DTEND;TZID=UTC:20241201T170000
DTSTAMP:20260422T135519
CREATED:20241001T155208Z
LAST-MODIFIED:20241001T155208Z
UID:2448-1733040000-1733072400@ranchoviejorotary.org
SUMMARY:"From what we get\, we can make a living; what we give\, however\, makes a life." - Arthur Ashe
DESCRIPTION:
URL:https://ranchoviejorotary.org/event/from-what-we-get-we-can-make-a-living-what-we-give-however-makes-a-life-arthur-ashe/
END:VEVENT
BEGIN:VEVENT
DTSTART;TZID=UTC:20241201T080000
DTEND;TZID=UTC:20241201T170000
DTSTAMP:20260422T135519
CREATED:20241001T155052Z
LAST-MODIFIED:20241001T155052Z
UID:2446-1733040000-1733072400@ranchoviejorotary.org
SUMMARY:World AIDS Day
DESCRIPTION:
URL:https://ranchoviejorotary.org/event/world-aids-day/
END:VEVENT
BEGIN:VEVENT
DTSTART;TZID=UTC:20241128T080000
DTEND;TZID=UTC:20241128T170000
DTSTAMP:20260422T135519
CREATED:20241001T134041Z
LAST-MODIFIED:20241001T134041Z
UID:2408-1732780800-1732813200@ranchoviejorotary.org
SUMMARY:Happy Thanksgiving Day
DESCRIPTION:
URL:https://ranchoviejorotary.org/event/happy-thanksgiving-day/
END:VEVENT
BEGIN:VEVENT
DTSTART;TZID=UTC:20241126T080000
DTEND;TZID=UTC:20241126T170000
DTSTAMP:20260422T135519
CREATED:20241001T134125Z
LAST-MODIFIED:20241001T134125Z
UID:2410-1732608000-1732640400@ranchoviejorotary.org
SUMMARY:Cake Day
DESCRIPTION:
URL:https://ranchoviejorotary.org/event/cake-day/
END:VEVENT
BEGIN:VEVENT
DTSTART;TZID=UTC:20241124T080000
DTEND;TZID=UTC:20241124T170000
DTSTAMP:20260422T135519
CREATED:20241001T134002Z
LAST-MODIFIED:20241001T134002Z
UID:2406-1732435200-1732467600@ranchoviejorotary.org
SUMMARY:"Friendship is the only cement that will ever hold the world together." - President Woodrow Wilson
DESCRIPTION:
URL:https://ranchoviejorotary.org/event/friendship-is-the-only-cement-that-will-ever-hold-the-world-together-president-woodrow-wilson/
END:VEVENT
BEGIN:VEVENT
DTSTART;TZID=UTC:20241118T180000
DTEND;TZID=UTC:20241118T190000
DTSTAMP:20260422T135519
CREATED:20241001T154045Z
LAST-MODIFIED:20241001T154045Z
UID:2434-1731952800-1731956400@ranchoviejorotary.org
SUMMARY:District-wide New Member Orientation
DESCRIPTION:
URL:https://ranchoviejorotary.org/event/district-wide-new-member-orientation/
END:VEVENT
BEGIN:VEVENT
DTSTART;TZID=UTC:20241117T080000
DTEND;TZID=UTC:20241117T170000
DTSTAMP:20260422T135519
CREATED:20241001T133448Z
LAST-MODIFIED:20241001T133448Z
UID:2404-1731830400-1731862800@ranchoviejorotary.org
SUMMARY:When I was a boy I used to think that strong meant having big muscles\, great physical power; but the long I live\, the more I realize that real strength has much more to do with what is not seen. Real Strength has to do with helping others. - Fred Rogers
DESCRIPTION:
URL:https://ranchoviejorotary.org/event/when-i-was-a-boy-i-used-to-think-that-strong-meant-having-big-muscles-great-physical-power-but-the-long-i-live-the-more-i-realize-that-real-strength-has-much-more-to-do-with-what-is-not-seen-real/
END:VEVENT
BEGIN:VEVENT
DTSTART;TZID=UTC:20241116T173000
DTEND;TZID=UTC:20241116T203000
DTSTAMP:20260422T135519
CREATED:20241001T130944Z
LAST-MODIFIED:20241001T130944Z
UID:2375-1731778200-1731789000@ranchoviejorotary.org
SUMMARY:Dreamcatcher Magic: The Rotary Foundation Celebration
DESCRIPTION:
URL:https://ranchoviejorotary.org/event/dreamcatcher-magic-the-rotary-foundation-celebration/
END:VEVENT
BEGIN:VEVENT
DTSTART;TZID=UTC:20241115T080000
DTEND;TZID=UTC:20241115T170000
DTSTAMP:20260422T135519
CREATED:20241001T133037Z
LAST-MODIFIED:20241001T133037Z
UID:2400-1731657600-1731690000@ranchoviejorotary.org
SUMMARY:Club Tax exempt tax return filed with IRS. District Contact: Secretary: Norma Hernandez
DESCRIPTION:
URL:https://ranchoviejorotary.org/event/club-tax-exempt-tax-return-filed-with-irs-district-contact-secretary-norma-hernandez/
END:VEVENT
BEGIN:VEVENT
DTSTART;TZID=UTC:20241115T080000
DTEND;TZID=UTC:20241115T170000
DTSTAMP:20260422T135519
CREATED:20241001T132933Z
LAST-MODIFIED:20241001T132933Z
UID:2398-1731657600-1731690000@ranchoviejorotary.org
SUMMARY:America Recycles Day
DESCRIPTION:
URL:https://ranchoviejorotary.org/event/america-recycles-day/
END:VEVENT
BEGIN:VEVENT
DTSTART;TZID=UTC:20241113T080000
DTEND;TZID=UTC:20241113T170000
DTSTAMP:20260422T135519
CREATED:20241001T132404Z
LAST-MODIFIED:20241001T132404Z
UID:2389-1731484800-1731517200@ranchoviejorotary.org
SUMMARY:World Kindness Day
DESCRIPTION:
URL:https://ranchoviejorotary.org/event/world-kindness-day/
END:VEVENT
BEGIN:VEVENT
DTSTART;TZID=UTC:20241112T080000
DTEND;TZID=UTC:20241112T170000
DTSTAMP:20260422T135519
CREATED:20241001T132308Z
LAST-MODIFIED:20241001T132308Z
UID:2387-1731398400-1731430800@ranchoviejorotary.org
SUMMARY:Happy Birthday - Cesar Pacheco
DESCRIPTION:
URL:https://ranchoviejorotary.org/event/happy-birthday-cesar-pacheco/
END:VEVENT
BEGIN:VEVENT
DTSTART;TZID=UTC:20241111T080000
DTEND;TZID=UTC:20241111T170000
DTSTAMP:20260422T135519
CREATED:20241001T132128Z
LAST-MODIFIED:20241001T132144Z
UID:2385-1731312000-1731344400@ranchoviejorotary.org
SUMMARY:Veterans Day - Service Project
DESCRIPTION:
URL:https://ranchoviejorotary.org/event/veterans-day-service-project/
END:VEVENT
BEGIN:VEVENT
DTSTART;TZID=UTC:20241110T080000
DTEND;TZID=UTC:20241110T170000
DTSTAMP:20260422T135519
CREATED:20241001T133203Z
LAST-MODIFIED:20241001T133203Z
UID:2402-1731225600-1731258000@ranchoviejorotary.org
SUMMARY:"Freedom isn't free. Thank you to all who paid that price." - Unknown
DESCRIPTION:
URL:https://ranchoviejorotary.org/event/freedom-isnt-free-thank-you-to-all-who-paid-that-price-unknown/
END:VEVENT
BEGIN:VEVENT
DTSTART;TZID=UTC:20241106T080000
DTEND;TZID=UTC:20241106T170000
DTSTAMP:20260422T135519
CREATED:20241001T131819Z
LAST-MODIFIED:20241001T131831Z
UID:2383-1730880000-1730912400@ranchoviejorotary.org
SUMMARY:Happy Birthday - John Herrera
DESCRIPTION:
URL:https://ranchoviejorotary.org/event/happy-birthday-john-herrera/
END:VEVENT
BEGIN:VEVENT
DTSTART;TZID=UTC:20241105T181500
DTEND;TZID=UTC:20241105T191500
DTSTAMP:20260422T135519
CREATED:20241001T131722Z
LAST-MODIFIED:20241001T131722Z
UID:2381-1730830500-1730834100@ranchoviejorotary.org
SUMMARY:Weekly Meeting - PDG Andy Hagan
DESCRIPTION:
URL:https://ranchoviejorotary.org/event/weekly-meeting-pdg-andy-hagan/
END:VEVENT
BEGIN:VEVENT
DTSTART;TZID=UTC:20241105T173000
DTEND;TZID=UTC:20241105T181500
DTSTAMP:20260422T135519
CREATED:20241001T131402Z
LAST-MODIFIED:20241001T131402Z
UID:2379-1730827800-1730830500@ranchoviejorotary.org
SUMMARY:Board meeting
DESCRIPTION:
URL:https://ranchoviejorotary.org/event/board-meeting-4/
END:VEVENT
BEGIN:VEVENT
DTSTART;TZID=UTC:20241104T080000
DTEND;TZID=UTC:20241110T170000
DTSTAMP:20260422T135519
CREATED:20240926T212723Z
LAST-MODIFIED:20240926T212723Z
UID:2356-1730707200-1731258000@ranchoviejorotary.org
SUMMARY:World Interact Week - World Interact Week is celebrated every year during the week of 5 November to commemorate the founding of the first Interact club in 1962.
DESCRIPTION:
URL:https://ranchoviejorotary.org/event/world-interact-week-world-interact-week-is-celebrated-every-year-during-the-week-of-5-november-to-commemorate-the-founding-of-the-first-interact-club-in-1962/
END:VEVENT
BEGIN:VEVENT
DTSTART;TZID=UTC:20241103T080000
DTEND;TZID=UTC:20241103T170000
DTSTAMP:20260422T135519
CREATED:20241001T132641Z
LAST-MODIFIED:20241001T132808Z
UID:2393-1730620800-1730653200@ranchoviejorotary.org
SUMMARY:" Let us be grateful to people who make us happy; they are the charming gardeners who make our schools blossom." -Marcel Proust
DESCRIPTION:
URL:https://ranchoviejorotary.org/event/let-us-be-grateful-to-people-who-make-us-happy-they-are-the-charming-gardeners-who-make-our-schools-blossom-marcel-proust/
END:VEVENT
BEGIN:VEVENT
DTSTART;TZID=UTC:20241103T080000
DTEND;TZID=UTC:20241103T170000
DTSTAMP:20260422T135519
CREATED:20241001T132514Z
LAST-MODIFIED:20241001T132846Z
UID:2391-1730620800-1730653200@ranchoviejorotary.org
SUMMARY:Day light savings time ends.
DESCRIPTION:
URL:https://ranchoviejorotary.org/event/day-light-savings-time-ends/
END:VEVENT
BEGIN:VEVENT
DTSTART;TZID=UTC:20241101T080000
DTEND;TZID=UTC:20241101T170000
DTSTAMP:20260422T135519
CREATED:20241001T131255Z
LAST-MODIFIED:20241001T131255Z
UID:2377-1730448000-1730480400@ranchoviejorotary.org
SUMMARY:All Saints' Day - Dia los Muertos
DESCRIPTION:
URL:https://ranchoviejorotary.org/event/all-saints-day-dia-los-muertos/
END:VEVENT
BEGIN:VEVENT
DTSTART;TZID=UTC:20241031T170000
DTEND;TZID=UTC:20241031T190000
DTSTAMP:20260422T135519
CREATED:20240926T212322Z
LAST-MODIFIED:20240926T212322Z
UID:2354-1730394000-1730401200@ranchoviejorotary.org
SUMMARY:Happy Halloween - Rotary Trunk or Treat event
DESCRIPTION:
URL:https://ranchoviejorotary.org/event/happy-halloween-rotary-trunk-or-treat-event/
END:VEVENT
BEGIN:VEVENT
DTSTART;TZID=UTC:20241029T080000
DTEND;TZID=UTC:20241029T170000
DTSTAMP:20260422T135519
CREATED:20240926T213524Z
LAST-MODIFIED:20240926T213524Z
UID:2364-1730188800-1730221200@ranchoviejorotary.org
SUMMARY:Internet Day
DESCRIPTION:
URL:https://ranchoviejorotary.org/event/internet-day/
END:VEVENT
BEGIN:VEVENT
DTSTART;TZID=UTC:20241027T080000
DTEND;TZID=UTC:20241027T170000
DTSTAMP:20260422T135519
CREATED:20240926T212947Z
LAST-MODIFIED:20240926T212947Z
UID:2358-1730016000-1730048400@ranchoviejorotary.org
SUMMARY:"Life is an echo - what you send out comes back." - Anonymous
DESCRIPTION:
URL:https://ranchoviejorotary.org/event/life-is-an-echo-what-you-send-out-comes-back-anonymous/
END:VEVENT
BEGIN:VEVENT
DTSTART;TZID=UTC:20241024T080000
DTEND;TZID=UTC:20241024T170000
DTSTAMP:20260422T135519
CREATED:20240926T213931Z
LAST-MODIFIED:20240926T213931Z
UID:2368-1729756800-1729789200@ranchoviejorotary.org
SUMMARY:World Polio Day
DESCRIPTION:
URL:https://ranchoviejorotary.org/event/world-polio-day/
END:VEVENT
BEGIN:VEVENT
DTSTART;TZID=UTC:20241022T181500
DTEND;TZID=UTC:20241022T191500
DTSTAMP:20260422T135519
CREATED:20240925T005501Z
LAST-MODIFIED:20240925T005556Z
UID:2335-1729620900-1729624500@ranchoviejorotary.org
SUMMARY:Weekly Meeting - Guest: Eddie Lucio III\, Polio Club Challenge Results
DESCRIPTION:
URL:https://ranchoviejorotary.org/event/weekly-meeting-guest-eddie-lucio-iii/
END:VEVENT
BEGIN:VEVENT
DTSTART;TZID=UTC:20241021T180000
DTEND;TZID=UTC:20241021T190000
DTSTAMP:20260422T135519
CREATED:20240926T213136Z
LAST-MODIFIED:20240926T213136Z
UID:2360-1729533600-1729537200@ranchoviejorotary.org
SUMMARY:District -Wide New Member Orientation\, via zoom
DESCRIPTION:
URL:https://ranchoviejorotary.org/event/district-wide-new-member-orientation-via-zoom/
END:VEVENT
BEGIN:VEVENT
DTSTART;TZID=UTC:20241020T080000
DTEND;TZID=UTC:20241020T170000
DTSTAMP:20260422T135519
CREATED:20240926T213338Z
LAST-MODIFIED:20240926T213338Z
UID:2362-1729411200-1729443600@ranchoviejorotary.org
SUMMARY:"Tell me and I'll forget\, Show me and I may not remember\, Involve me and I'll understand." - Native American Proverb
DESCRIPTION:
URL:https://ranchoviejorotary.org/event/tell-me-and-ill-forget-show-me-and-i-may-not-remember-involve-me-and-ill-understand-native-american-proverb/
END:VEVENT
BEGIN:VEVENT
DTSTART;TZID=UTC:20241019T080000
DTEND;TZID=UTC:20241019T170000
DTSTAMP:20260422T135519
CREATED:20240926T212154Z
LAST-MODIFIED:20240926T212154Z
UID:2352-1729324800-1729357200@ranchoviejorotary.org
SUMMARY:Rotary Polio Moto Ride
DESCRIPTION:
URL:https://ranchoviejorotary.org/event/rotary-polio-moto-ride/
END:VEVENT
BEGIN:VEVENT
DTSTART;TZID=UTC:20241015T180000
DTEND;TZID=UTC:20241015T190000
DTSTAMP:20260422T135519
CREATED:20240925T005303Z
LAST-MODIFIED:20240925T005303Z
UID:2333-1729015200-1729018800@ranchoviejorotary.org
SUMMARY:Weekly Meeting - Guest: Bill Dietrich
DESCRIPTION:
URL:https://ranchoviejorotary.org/event/weekly-meeting-guest-bill-dietrich/
END:VEVENT
END:VCALENDAR