BEGIN:VCALENDAR
VERSION:2.0
PRODID:-//Rotary Club of Rancho Viejo - ECPv6.15.20//NONSGML v1.0//EN
CALSCALE:GREGORIAN
METHOD:PUBLISH
X-WR-CALNAME:Rotary Club of Rancho Viejo
X-ORIGINAL-URL:https://ranchoviejorotary.org
X-WR-CALDESC:Events for Rotary Club of Rancho Viejo
REFRESH-INTERVAL;VALUE=DURATION:PT1H
X-Robots-Tag:noindex
X-PUBLISHED-TTL:PT1H
BEGIN:VTIMEZONE
TZID:UTC
BEGIN:STANDARD
TZOFFSETFROM:+0000
TZOFFSETTO:+0000
TZNAME:UTC
DTSTART:20230101T000000
END:STANDARD
END:VTIMEZONE
BEGIN:VEVENT
DTSTART;TZID=UTC:20241006T080000
DTEND;TZID=UTC:20241006T170000
DTSTAMP:20260423T024516
CREATED:20240925T010238Z
LAST-MODIFIED:20240925T010238Z
UID:2343-1728201600-1728234000@ranchoviejorotary.org
SUMMARY:"If you can dream it\, you can do it." -Walt Disney
DESCRIPTION:
URL:https://ranchoviejorotary.org/event/if-you-can-dream-it-you-can-do-it-walt-disney/
END:VEVENT
BEGIN:VEVENT
DTSTART;TZID=UTC:20241001T180000
DTEND;TZID=UTC:20241001T190000
DTSTAMP:20260423T024516
CREATED:20240925T005142Z
LAST-MODIFIED:20241001T134252Z
UID:2331-1727805600-1727809200@ranchoviejorotary.org
SUMMARY:Weekly Meeting - Foundation meeting\, Nancy Escobedo
DESCRIPTION:
URL:https://ranchoviejorotary.org/event/weekly-meeting-tba/
END:VEVENT
BEGIN:VEVENT
DTSTART;TZID=UTC:20240929T080000
DTEND;TZID=UTC:20240929T170000
DTSTAMP:20260423T024516
CREATED:20240706T164837Z
LAST-MODIFIED:20240706T164837Z
UID:2283-1727596800-1727629200@ranchoviejorotary.org
SUMMARY:"Every day when I got off the bus to walkt to the build site\, I had this movie quote in my head that said Do Good Things Today. I guess that's enough to ask\, and the very minimum that I should expect of myself."
DESCRIPTION:
URL:https://ranchoviejorotary.org/event/every-day-when-i-got-off-the-bus-to-walkt-to-the-build-site-i-had-this-movie-quote-in-my-head-that-said-do-good-things-today-i-guess-thats-enough-to-ask-and-the-very-minimum-that-i-should-expec/
END:VEVENT
BEGIN:VEVENT
DTSTART;TZID=UTC:20240926T080000
DTEND;TZID=UTC:20240926T170000
DTSTAMP:20260423T024516
CREATED:20240706T164326Z
LAST-MODIFIED:20240706T164326Z
UID:2277-1727337600-1727370000@ranchoviejorotary.org
SUMMARY:Rotary Club Social - Broken Sprocket
DESCRIPTION:
URL:https://ranchoviejorotary.org/event/rotary-club-social-broken-sprocket/
END:VEVENT
BEGIN:VEVENT
DTSTART;TZID=UTC:20240924T080000
DTEND;TZID=UTC:20240924T170000
DTSTAMP:20260423T024516
CREATED:20240706T162842Z
LAST-MODIFIED:20240706T162842Z
UID:2258-1727164800-1727197200@ranchoviejorotary.org
SUMMARY:No meeting today
DESCRIPTION:
URL:https://ranchoviejorotary.org/event/no-meeting-today-6/
END:VEVENT
BEGIN:VEVENT
DTSTART;TZID=UTC:20240922T080000
DTEND;TZID=UTC:20240922T170000
DTSTAMP:20260423T024516
CREATED:20240706T164642Z
LAST-MODIFIED:20240706T164642Z
UID:2281-1726992000-1727024400@ranchoviejorotary.org
SUMMARY:"To help yourself\, help other. Whatever good you do travels a circle and returns to you many times over -but remember\, life isn't about what you get\, it's about what you become."
DESCRIPTION:
URL:https://ranchoviejorotary.org/event/to-help-yourself-help-other-whatever-good-you-do-travels-a-circle-and-returns-to-you-many-times-over-but-remember-life-isnt-about-what-you-get-its-about-what-you-become/
END:VEVENT
BEGIN:VEVENT
DTSTART;TZID=UTC:20240921T080000
DTEND;TZID=UTC:20240921T170000
DTSTAMP:20260423T024516
CREATED:20240706T163147Z
LAST-MODIFIED:20240706T163147Z
UID:2265-1726905600-1726938000@ranchoviejorotary.org
SUMMARY:District Peace Summit - Laredo\, TX
DESCRIPTION:
URL:https://ranchoviejorotary.org/event/district-peace-summit-laredo-tx/
END:VEVENT
BEGIN:VEVENT
DTSTART;TZID=UTC:20240917T180000
DTEND;TZID=UTC:20240917T190000
DTSTAMP:20260423T024516
CREATED:20240706T163110Z
LAST-MODIFIED:20240912T181403Z
UID:2263-1726596000-1726599600@ranchoviejorotary.org
SUMMARY:Weekly meeting - Guest: Dr. Rey Ramos UTRGV(tentative)
DESCRIPTION:
URL:https://ranchoviejorotary.org/event/weekly-meeting-guest-dr-rey-ramos-utrgvtentative/
END:VEVENT
BEGIN:VEVENT
DTSTART;TZID=UTC:20240917T173000
DTEND;TZID=UTC:20240917T180000
DTSTAMP:20260423T024516
CREATED:20240912T181238Z
LAST-MODIFIED:20240912T181238Z
UID:2311-1726594200-1726596000@ranchoviejorotary.org
SUMMARY:Board Meeting
DESCRIPTION:
URL:https://ranchoviejorotary.org/event/board-meeting-3/
END:VEVENT
BEGIN:VEVENT
DTSTART;TZID=UTC:20240915T080000
DTEND;TZID=UTC:20240915T170000
DTSTAMP:20260423T024516
CREATED:20240706T164117Z
LAST-MODIFIED:20240706T164151Z
UID:2275-1726387200-1726419600@ranchoviejorotary.org
SUMMARY:"We aren't limited if we can't see. We're only limited if we don't look."
DESCRIPTION:
URL:https://ranchoviejorotary.org/event/we-arent-limited-if-we-cant-see-were-only-limited-if-we-dont-look/
END:VEVENT
BEGIN:VEVENT
DTSTART;TZID=UTC:20240911T080000
DTEND;TZID=UTC:20240911T170000
DTSTAMP:20260423T024516
CREATED:20240706T164409Z
LAST-MODIFIED:20240706T164409Z
UID:2279-1726041600-1726074000@ranchoviejorotary.org
SUMMARY:Flag Day Service Project
DESCRIPTION:
URL:https://ranchoviejorotary.org/event/flag-day-service-project/
END:VEVENT
BEGIN:VEVENT
DTSTART;TZID=UTC:20240910T080000
DTEND;TZID=UTC:20240910T170000
DTSTAMP:20260423T024516
CREATED:20240706T162953Z
LAST-MODIFIED:20240706T163008Z
UID:2260-1725955200-1725987600@ranchoviejorotary.org
SUMMARY:Weekly meeting - Guest: Author\, Katelynn Renteria
DESCRIPTION:
URL:https://ranchoviejorotary.org/event/weekly-meeting-author-katelynn-renteria/
END:VEVENT
BEGIN:VEVENT
DTSTART;TZID=UTC:20240908T080000
DTEND;TZID=UTC:20240908T170000
DTSTAMP:20260423T024516
CREATED:20240706T164025Z
LAST-MODIFIED:20240706T164025Z
UID:2273-1725782400-1725814800@ranchoviejorotary.org
SUMMARY:"Carry out a random act of kindness\, with no expectation of reward\, safe in the knowledge that one day someone might do the same for you."
DESCRIPTION:
URL:https://ranchoviejorotary.org/event/carry-out-a-random-act-of-kindness-with-no-expectation-of-reward-safe-in-the-knowledge-that-one-day-someone-might-do-the-same-for-you/
END:VEVENT
BEGIN:VEVENT
DTSTART;TZID=UTC:20240908T080000
DTEND;TZID=UTC:20240908T170000
DTSTAMP:20260423T024516
CREATED:20240706T163833Z
LAST-MODIFIED:20240706T163833Z
UID:2271-1725782400-1725814800@ranchoviejorotary.org
SUMMARY:International Literacy Day
DESCRIPTION:
URL:https://ranchoviejorotary.org/event/international-literacy-day/
END:VEVENT
BEGIN:VEVENT
DTSTART;TZID=UTC:20240903T080000
DTEND;TZID=UTC:20240903T170000
DTSTAMP:20260423T024516
CREATED:20240706T162818Z
LAST-MODIFIED:20240706T162818Z
UID:2256-1725350400-1725382800@ranchoviejorotary.org
SUMMARY:No meeting today
DESCRIPTION:
URL:https://ranchoviejorotary.org/event/no-meeting-today-5/
END:VEVENT
BEGIN:VEVENT
DTSTART;TZID=UTC:20240901T080000
DTEND;TZID=UTC:20240901T170000
DTSTAMP:20260423T024516
CREATED:20240706T163719Z
LAST-MODIFIED:20240706T163719Z
UID:2269-1725177600-1725210000@ranchoviejorotary.org
SUMMARY:"This is a changing world: we must be prepared to change with it. The story of Rotary will have to be written again and again." -Paul Harris
DESCRIPTION:
URL:https://ranchoviejorotary.org/event/this-is-a-changing-world-we-must-be-prepared-to-change-with-it-the-story-of-rotary-will-have-to-be-written-again-and-again-paul-harris/
END:VEVENT
BEGIN:VEVENT
DTSTART;TZID=UTC:20240827T180000
DTEND;TZID=UTC:20240827T190000
DTSTAMP:20260423T024516
CREATED:20240706T161351Z
LAST-MODIFIED:20240706T161351Z
UID:2241-1724781600-1724785200@ranchoviejorotary.org
SUMMARY:Weekly Meeting
DESCRIPTION:
URL:https://ranchoviejorotary.org/event/weekly-meeting-9/
END:VEVENT
BEGIN:VEVENT
DTSTART;TZID=UTC:20240827T173000
DTEND;TZID=UTC:20240827T180000
DTSTAMP:20260423T024516
CREATED:20240706T161259Z
LAST-MODIFIED:20240706T161259Z
UID:2239-1724779800-1724781600@ranchoviejorotary.org
SUMMARY:Board Meeting
DESCRIPTION:
URL:https://ranchoviejorotary.org/event/board-meeting-2/
END:VEVENT
BEGIN:VEVENT
DTSTART;TZID=UTC:20240825T080000
DTEND;TZID=UTC:20240825T170000
DTSTAMP:20260423T024516
CREATED:20240706T162248Z
LAST-MODIFIED:20240706T162248Z
UID:2254-1724572800-1724605200@ranchoviejorotary.org
SUMMARY:"Never doubt that a small group of thoughtful\, committed citizens can change the world. Indeed\, its the only thing that ever has."
DESCRIPTION:
URL:https://ranchoviejorotary.org/event/never-doubt-that-a-small-group-of-thoughtful-committed-citizens-can-change-the-world-indeed-its-the-only-thing-that-ever-has/
END:VEVENT
BEGIN:VEVENT
DTSTART;TZID=UTC:20240820T080000
DTEND;TZID=UTC:20240820T170000
DTSTAMP:20260423T024516
CREATED:20240706T161212Z
LAST-MODIFIED:20240706T161212Z
UID:2237-1724140800-1724173200@ranchoviejorotary.org
SUMMARY:No meeting today
DESCRIPTION:
URL:https://ranchoviejorotary.org/event/no-meeting-today-4/
END:VEVENT
BEGIN:VEVENT
DTSTART;TZID=UTC:20240818T080000
DTEND;TZID=UTC:20240818T170000
DTSTAMP:20260423T024516
CREATED:20240706T162131Z
LAST-MODIFIED:20240706T162131Z
UID:2252-1723968000-1724000400@ranchoviejorotary.org
SUMMARY:"The only true gift is a portion of yourself."
DESCRIPTION:
URL:https://ranchoviejorotary.org/event/the-only-true-gift-is-a-portion-of-yourself/
END:VEVENT
BEGIN:VEVENT
DTSTART;TZID=UTC:20240813T180000
DTEND;TZID=UTC:20240813T190000
DTSTAMP:20260423T024516
CREATED:20240705T141239Z
LAST-MODIFIED:20240705T141239Z
UID:2233-1723572000-1723575600@ranchoviejorotary.org
SUMMARY:Weekly Meeting - Club Visioning Debrief. Where do we go from here?
DESCRIPTION:
URL:https://ranchoviejorotary.org/event/weekly-meeting-club-visioning-debrief-where-do-we-go-from-here/
END:VEVENT
BEGIN:VEVENT
DTSTART;TZID=UTC:20240811T080000
DTEND;TZID=UTC:20240811T170000
DTSTAMP:20260423T024516
CREATED:20240706T162034Z
LAST-MODIFIED:20240706T162034Z
UID:2250-1723363200-1723395600@ranchoviejorotary.org
SUMMARY:Concerning all the wonderful ways Rotarians serve. Why\, they ask. Because we can and we care!
DESCRIPTION:
URL:https://ranchoviejorotary.org/event/concerning-all-the-wonderful-ways-rotarians-serve-why-they-ask-because-we-can-and-we-care/
END:VEVENT
BEGIN:VEVENT
DTSTART;TZID=UTC:20240810T080000
DTEND;TZID=UTC:20240810T170000
DTSTAMP:20260423T024516
CREATED:20240706T161655Z
LAST-MODIFIED:20240706T161655Z
UID:2245-1723276800-1723309200@ranchoviejorotary.org
SUMMARY:Club Visioning
DESCRIPTION:
URL:https://ranchoviejorotary.org/event/club-visioning/
END:VEVENT
BEGIN:VEVENT
DTSTART;TZID=UTC:20240806T080000
DTEND;TZID=UTC:20240806T170000
DTSTAMP:20260423T024516
CREATED:20240705T140217Z
LAST-MODIFIED:20240705T140217Z
UID:2231-1722931200-1722963600@ranchoviejorotary.org
SUMMARY:No meeting today
DESCRIPTION:
URL:https://ranchoviejorotary.org/event/no-meeting-today-3/
END:VEVENT
BEGIN:VEVENT
DTSTART;TZID=UTC:20240804T080000
DTEND;TZID=UTC:20240804T170000
DTSTAMP:20260423T024516
CREATED:20240706T161555Z
LAST-MODIFIED:20240706T161555Z
UID:2243-1722758400-1722790800@ranchoviejorotary.org
SUMMARY:If you want happiness for an hour\, take a nap. If you want happiness for a day\, go fishing. If you want happiness for a year\, inherit a fortune. If you want happiness for a lifetime\, help somebody.
DESCRIPTION:
URL:https://ranchoviejorotary.org/event/if-you-want-happiness-for-an-hour-take-a-nap-if-you-want-happiness-for-a-day-go-fishing-if-you-want-happiness-for-a-year-inherit-a-fortune-if-you-want-happiness-for-a-lifetime-help-somebody/
END:VEVENT
BEGIN:VEVENT
DTSTART;TZID=UTC:20240803T090000
DTEND;TZID=UTC:20240803T110000
DTSTAMP:20260423T024516
CREATED:20240706T161748Z
LAST-MODIFIED:20240706T161826Z
UID:2247-1722675600-1722682800@ranchoviejorotary.org
SUMMARY:Stop the Bleed & Hands Only CPR - Service Project\, RV City Hall
DESCRIPTION:
URL:https://ranchoviejorotary.org/event/stop-the-bleed-hands-only-cpr-service-project/
END:VEVENT
BEGIN:VEVENT
DTSTART;TZID=UTC:20240730T180000
DTEND;TZID=UTC:20240730T190000
DTSTAMP:20260423T024516
CREATED:20240705T133407Z
LAST-MODIFIED:20240705T133407Z
UID:2223-1722362400-1722366000@ranchoviejorotary.org
SUMMARY:Weekly meeting - Claudia Krauss/Liz Harris Life & Family Pregnancy Center
DESCRIPTION:
URL:https://ranchoviejorotary.org/event/weekly-meeting-claudia-krauss-liz-harris-life-family-pregnancy-center/
END:VEVENT
BEGIN:VEVENT
DTSTART;TZID=UTC:20240728T080000
DTEND;TZID=UTC:20240728T170000
DTSTAMP:20260423T024516
CREATED:20240705T133133Z
LAST-MODIFIED:20240705T133133Z
UID:2219-1722153600-1722186000@ranchoviejorotary.org
SUMMARY:"Do something for somebody every day for which you do not get paid." -Albert Schweitzer
DESCRIPTION:
URL:https://ranchoviejorotary.org/event/do-something-for-somebody-every-day-for-which-you-do-not-get-paid-albert-schweitzer/
END:VEVENT
BEGIN:VEVENT
DTSTART;TZID=UTC:20240723T080000
DTEND;TZID=UTC:20240723T170000
DTSTAMP:20260423T024516
CREATED:20240705T133212Z
LAST-MODIFIED:20240705T133658Z
UID:2221-1721721600-1721754000@ranchoviejorotary.org
SUMMARY:No meeting today
DESCRIPTION:
URL:https://ranchoviejorotary.org/event/no-meeting-3/
END:VEVENT
END:VCALENDAR