BEGIN:VCALENDAR
VERSION:2.0
PRODID:-//Rotary Club of Rancho Viejo - ECPv6.15.20//NONSGML v1.0//EN
CALSCALE:GREGORIAN
METHOD:PUBLISH
X-WR-CALNAME:Rotary Club of Rancho Viejo
X-ORIGINAL-URL:https://ranchoviejorotary.org
X-WR-CALDESC:Events for Rotary Club of Rancho Viejo
REFRESH-INTERVAL;VALUE=DURATION:PT1H
X-Robots-Tag:noindex
X-PUBLISHED-TTL:PT1H
BEGIN:VTIMEZONE
TZID:UTC
BEGIN:STANDARD
TZOFFSETFROM:+0000
TZOFFSETTO:+0000
TZNAME:UTC
DTSTART:20220101T000000
END:STANDARD
END:VTIMEZONE
BEGIN:VTIMEZONE
TZID:Asia/Karachi
BEGIN:STANDARD
TZOFFSETFROM:+0500
TZOFFSETTO:+0500
TZNAME:PKT
DTSTART:20230101T000000
END:STANDARD
END:VTIMEZONE
BEGIN:VTIMEZONE
TZID:America/Chicago
BEGIN:DAYLIGHT
TZOFFSETFROM:-0600
TZOFFSETTO:-0500
TZNAME:CDT
DTSTART:20220313T080000
END:DAYLIGHT
BEGIN:STANDARD
TZOFFSETFROM:-0500
TZOFFSETTO:-0600
TZNAME:CST
DTSTART:20221106T070000
END:STANDARD
BEGIN:DAYLIGHT
TZOFFSETFROM:-0600
TZOFFSETTO:-0500
TZNAME:CDT
DTSTART:20230312T080000
END:DAYLIGHT
BEGIN:STANDARD
TZOFFSETFROM:-0500
TZOFFSETTO:-0600
TZNAME:CST
DTSTART:20231105T070000
END:STANDARD
BEGIN:DAYLIGHT
TZOFFSETFROM:-0600
TZOFFSETTO:-0500
TZNAME:CDT
DTSTART:20240310T080000
END:DAYLIGHT
BEGIN:STANDARD
TZOFFSETFROM:-0500
TZOFFSETTO:-0600
TZNAME:CST
DTSTART:20241103T070000
END:STANDARD
END:VTIMEZONE
BEGIN:VEVENT
DTSTART;TZID=UTC:20240705T080000
DTEND;TZID=UTC:20240705T170000
DTSTAMP:20260423T143152
CREATED:20240705T133510Z
LAST-MODIFIED:20240705T133510Z
UID:2225-1720166400-1720198800@ranchoviejorotary.org
SUMMARY:Back to School Supply Sets @ Wal-Mart
DESCRIPTION:
URL:https://ranchoviejorotary.org/event/back-to-school-supply-sets-wal-mart/
LOCATION:TX
END:VEVENT
BEGIN:VEVENT
DTSTART;TZID=UTC:20240704T080000
DTEND;TZID=UTC:20240704T170000
DTSTAMP:20260423T143152
CREATED:20240705T133537Z
LAST-MODIFIED:20240705T133630Z
UID:2227-1720080000-1720112400@ranchoviejorotary.org
SUMMARY:July 4th - Flag day project
DESCRIPTION:
URL:https://ranchoviejorotary.org/event/july-4th-flag-day-project/
LOCATION:TX
END:VEVENT
BEGIN:VEVENT
DTSTART;VALUE=DATE:20240614
DTEND;VALUE=DATE:20240615
DTSTAMP:20260423T143152
CREATED:20230821T142824Z
LAST-MODIFIED:20230821T142824Z
UID:2043-1718323200-1718409599@ranchoviejorotary.org
SUMMARY:Flag Day Flag Project
DESCRIPTION:
URL:https://ranchoviejorotary.org/event/flag-day-flag-project/
LOCATION:TX
END:VEVENT
BEGIN:VEVENT
DTSTART;VALUE=DATE:20240611
DTEND;VALUE=DATE:20240612
DTSTAMP:20260423T143152
CREATED:20230821T142728Z
LAST-MODIFIED:20230821T142728Z
UID:2041-1718064000-1718150399@ranchoviejorotary.org
SUMMARY:NO GENERAL MEETING
DESCRIPTION:
URL:https://ranchoviejorotary.org/event/no-general-meeting-9/
LOCATION:TX
END:VEVENT
BEGIN:VEVENT
DTSTART;VALUE=DATE:20240528
DTEND;VALUE=DATE:20240529
DTSTAMP:20260423T143152
CREATED:20230821T143103Z
LAST-MODIFIED:20230821T151240Z
UID:2047-1716854400-1716940799@ranchoviejorotary.org
SUMMARY:NO GENERAL MEETING
DESCRIPTION:
URL:https://ranchoviejorotary.org/event/no-general-meeting-10/
LOCATION:TX
END:VEVENT
BEGIN:VEVENT
DTSTART;VALUE=DATE:20240527
DTEND;VALUE=DATE:20240528
DTSTAMP:20260423T143152
CREATED:20230821T143012Z
LAST-MODIFIED:20230821T143012Z
UID:2045-1716768000-1716854399@ranchoviejorotary.org
SUMMARY:Memorial Day Flag Project
DESCRIPTION:
URL:https://ranchoviejorotary.org/event/memorial-day-flag-project/
LOCATION:TX
END:VEVENT
BEGIN:VEVENT
DTSTART;VALUE=DATE:20240514
DTEND;VALUE=DATE:20240515
DTSTAMP:20260423T143152
CREATED:20230821T142650Z
LAST-MODIFIED:20230821T142650Z
UID:2039-1715644800-1715731199@ranchoviejorotary.org
SUMMARY:NO GENERAL MEETING
DESCRIPTION:
URL:https://ranchoviejorotary.org/event/no-general-meeting-8/
LOCATION:TX
END:VEVENT
BEGIN:VEVENT
DTSTART;VALUE=DATE:20240409
DTEND;VALUE=DATE:20240410
DTSTAMP:20260423T143152
CREATED:20230821T142620Z
LAST-MODIFIED:20230821T142620Z
UID:2037-1712620800-1712707199@ranchoviejorotary.org
SUMMARY:NO GENERAL MEETING
DESCRIPTION:
URL:https://ranchoviejorotary.org/event/no-general-meeting-7/
LOCATION:TX
END:VEVENT
BEGIN:VEVENT
DTSTART;VALUE=DATE:20240319
DTEND;VALUE=DATE:20240320
DTSTAMP:20260423T143152
CREATED:20240227T124951Z
LAST-MODIFIED:20240227T124951Z
UID:2149-1710806400-1710892799@ranchoviejorotary.org
SUMMARY:General Meeting - Marianela Caballero - Mental Health Awareness Advisor
DESCRIPTION:
URL:https://ranchoviejorotary.org/event/general-meeting-marianela-caballero-mental-health-awareness-advisor/
LOCATION:TX
END:VEVENT
BEGIN:VEVENT
DTSTART;VALUE=DATE:20240312
DTEND;VALUE=DATE:20240313
DTSTAMP:20260423T143152
CREATED:20240227T124610Z
LAST-MODIFIED:20240227T124610Z
UID:2145-1710201600-1710287999@ranchoviejorotary.org
SUMMARY:NO GENERAL MEETING
DESCRIPTION:
URL:https://ranchoviejorotary.org/event/no-general-meeting-13/
LOCATION:TX
END:VEVENT
BEGIN:VEVENT
DTSTART;VALUE=DATE:20240312
DTEND;VALUE=DATE:20240313
DTSTAMP:20260423T143152
CREATED:20230821T142555Z
LAST-MODIFIED:20230821T142555Z
UID:2035-1710201600-1710287999@ranchoviejorotary.org
SUMMARY:NO GENERAL MEETING
DESCRIPTION: 
URL:https://ranchoviejorotary.org/event/no-general-meeting-6/
LOCATION:TX
END:VEVENT
BEGIN:VEVENT
DTSTART;VALUE=DATE:20240306
DTEND;VALUE=DATE:20240307
DTSTAMP:20260423T143152
CREATED:20240227T124828Z
LAST-MODIFIED:20240227T124828Z
UID:2147-1709683200-1709769599@ranchoviejorotary.org
SUMMARY:Community Service Event - Good Neighbor Settlement House
DESCRIPTION:We will be preparing and serving a Spaghetti Dinner for Good Neighbor Settlement House for 120 people from 4:30pm to 5:30pm. More details to come.
URL:https://ranchoviejorotary.org/event/community-service-event-good-neighbor-settlement-house/
LOCATION:TX
END:VEVENT
BEGIN:VEVENT
DTSTART;VALUE=DATE:20240305
DTEND;VALUE=DATE:20240306
DTSTAMP:20260423T143152
CREATED:20240227T124515Z
LAST-MODIFIED:20240227T124534Z
UID:2142-1709596800-1709683199@ranchoviejorotary.org
SUMMARY:NO GENERAL MEETING
DESCRIPTION:
URL:https://ranchoviejorotary.org/event/no-meeting-2/
LOCATION:TX
END:VEVENT
BEGIN:VEVENT
DTSTART;VALUE=DATE:20240227
DTEND;VALUE=DATE:20240228
DTSTAMP:20260423T143152
CREATED:20240131T173123Z
LAST-MODIFIED:20240227T124426Z
UID:2137-1708992000-1709078399@ranchoviejorotary.org
SUMMARY:General Meeting - Dr. Alma Rodriguez\, Dean of Education UTRGV
DESCRIPTION:
URL:https://ranchoviejorotary.org/event/general-meeting-dr-alma-martinez-dean-of-education-utrgv/
LOCATION:TX
END:VEVENT
BEGIN:VEVENT
DTSTART;VALUE=DATE:20240220
DTEND;VALUE=DATE:20240221
DTSTAMP:20260423T143152
CREATED:20240131T172833Z
LAST-MODIFIED:20240131T172833Z
UID:2135-1708387200-1708473599@ranchoviejorotary.org
SUMMARY:General Meeting - Rolando Guerra LFCISD CTE Director
DESCRIPTION:
URL:https://ranchoviejorotary.org/event/general-meeting-rolando-guerra-lfcisd-cte-director/
LOCATION:TX
END:VEVENT
BEGIN:VEVENT
DTSTART;TZID=UTC:20240213T080000
DTEND;TZID=UTC:20240213T170000
DTSTAMP:20260423T143152
CREATED:20230821T142524Z
LAST-MODIFIED:20230821T142524Z
UID:2033-1707811200-1707843600@ranchoviejorotary.org
SUMMARY:NO GENERAL MEETING
DESCRIPTION: 
URL:https://ranchoviejorotary.org/event/no-general-meeting-5/
LOCATION:TX
END:VEVENT
BEGIN:VEVENT
DTSTART;VALUE=DATE:20240206
DTEND;VALUE=DATE:20240207
DTSTAMP:20260423T143152
CREATED:20240201T184222Z
LAST-MODIFIED:20240201T184222Z
UID:2139-1707177600-1707263999@ranchoviejorotary.org
SUMMARY:General Meeting - Diana Clough\, Director of Youth Connection Project\, BISD
DESCRIPTION:
URL:https://ranchoviejorotary.org/event/general-meeting-diana-clough-director-of-youth-connection-project-bisd/
LOCATION:TX
END:VEVENT
BEGIN:VEVENT
DTSTART;VALUE=DATE:20240130
DTEND;VALUE=DATE:20240131
DTSTAMP:20260423T143152
CREATED:20240108T174915Z
LAST-MODIFIED:20240130T122947Z
UID:2108-1706572800-1706659199@ranchoviejorotary.org
SUMMARY:General Meeting - Chief Oscar Garcia BISDPD
DESCRIPTION:
URL:https://ranchoviejorotary.org/event/general-meeting-robert-martinez-bpd/
LOCATION:TX
END:VEVENT
BEGIN:VEVENT
DTSTART;VALUE=DATE:20240109
DTEND;VALUE=DATE:20240110
DTSTAMP:20260423T143152
CREATED:20230821T142439Z
LAST-MODIFIED:20230821T142439Z
UID:2031-1704758400-1704844799@ranchoviejorotary.org
SUMMARY:NO GENERAL MEETING
DESCRIPTION:
URL:https://ranchoviejorotary.org/event/no-general-meeting-4/
LOCATION:TX
END:VEVENT
BEGIN:VEVENT
DTSTART;VALUE=DATE:20231226
DTEND;VALUE=DATE:20231227
DTSTAMP:20260423T143152
CREATED:20230913T112511Z
LAST-MODIFIED:20230913T112511Z
UID:2075-1703548800-1703635199@ranchoviejorotary.org
SUMMARY:NO GENERAL MEETING
DESCRIPTION:
URL:https://ranchoviejorotary.org/event/no-general-meeting-12/
LOCATION:TX
END:VEVENT
BEGIN:VEVENT
DTSTART;VALUE=DATE:20231212
DTEND;VALUE=DATE:20231213
DTSTAMP:20260423T143152
CREATED:20230821T142339Z
LAST-MODIFIED:20230821T142339Z
UID:2029-1702339200-1702425599@ranchoviejorotary.org
SUMMARY:NO GENERAL MEETING
DESCRIPTION:
URL:https://ranchoviejorotary.org/event/no-general-meeting-3/
LOCATION:TX
END:VEVENT
BEGIN:VEVENT
DTSTART;VALUE=DATE:20231128
DTEND;VALUE=DATE:20231129
DTSTAMP:20260423T143152
CREATED:20231102T140457Z
LAST-MODIFIED:20231102T140457Z
UID:2099-1701129600-1701215999@ranchoviejorotary.org
SUMMARY:General Meeting - Dr. Michael Hohnadel
DESCRIPTION:
URL:https://ranchoviejorotary.org/event/general-meeting-dr-michael-hohnadel/
LOCATION:TX
END:VEVENT
BEGIN:VEVENT
DTSTART;VALUE=DATE:20231114
DTEND;VALUE=DATE:20231115
DTSTAMP:20260423T143152
CREATED:20230821T142300Z
LAST-MODIFIED:20230821T142300Z
UID:2027-1699920000-1700006399@ranchoviejorotary.org
SUMMARY:NO GENERAL MEETING
DESCRIPTION:
URL:https://ranchoviejorotary.org/event/no-general-meeting-2/
LOCATION:TX
END:VEVENT
BEGIN:VEVENT
DTSTART;VALUE=DATE:20231114
DTEND;VALUE=DATE:20231115
DTSTAMP:20260423T143152
CREATED:20230821T142055Z
LAST-MODIFIED:20231103T013735Z
UID:2025-1699920000-1700006399@ranchoviejorotary.org
SUMMARY:Rotary Thanksgiving Dinner
DESCRIPTION:
URL:https://ranchoviejorotary.org/event/rotary-thanksgiving-dinner/
LOCATION:TX
END:VEVENT
BEGIN:VEVENT
DTSTART;VALUE=DATE:20231107
DTEND;VALUE=DATE:20231108
DTSTAMP:20260423T143152
CREATED:20231102T140350Z
LAST-MODIFIED:20231102T140350Z
UID:2097-1699315200-1699401599@ranchoviejorotary.org
SUMMARY:General Meeting - Dr. Bradley Nordyke
DESCRIPTION:
URL:https://ranchoviejorotary.org/event/general-meeting-dr-bradley-nordyke/
LOCATION:TX
END:VEVENT
BEGIN:VEVENT
DTSTART;VALUE=DATE:20231031
DTEND;VALUE=DATE:20231101
DTSTAMP:20260423T143152
CREATED:20231017T113641Z
LAST-MODIFIED:20231023T224207Z
UID:2088-1698710400-1698796799@ranchoviejorotary.org
SUMMARY:General Meeting - Valerie Londrie (Stern Education)
DESCRIPTION:
URL:https://ranchoviejorotary.org/event/general-meeting-valerie-londrie-stern-education/
LOCATION:TX
END:VEVENT
BEGIN:VEVENT
DTSTART;VALUE=DATE:20231024
DTEND;VALUE=DATE:20231025
DTSTAMP:20260423T143152
CREATED:20231023T224057Z
LAST-MODIFIED:20231023T224057Z
UID:2090-1698105600-1698191999@ranchoviejorotary.org
SUMMARY:General Meeting - Agent Joey Garcia (USBP REAL MISSION)
DESCRIPTION:
URL:https://ranchoviejorotary.org/event/general-meeting-agent-joey-garcia-usbp-real-mission/
LOCATION:TX
END:VEVENT
BEGIN:VEVENT
DTSTART;VALUE=DATE:20231017
DTEND;VALUE=DATE:20231018
DTSTAMP:20260423T143152
CREATED:20230926T124622Z
LAST-MODIFIED:20230926T124622Z
UID:2079-1697500800-1697587199@ranchoviejorotary.org
SUMMARY:General Meeting - Dr. Antonio Caldwell\, Executive Director BARCC
DESCRIPTION:
URL:https://ranchoviejorotary.org/event/general-meeting-dr-antonio-caldwell-executive-director-barcc/
LOCATION:TX
END:VEVENT
BEGIN:VEVENT
DTSTART;VALUE=DATE:20231010
DTEND;VALUE=DATE:20231011
DTSTAMP:20260423T143152
CREATED:20230913T111812Z
LAST-MODIFIED:20230913T111812Z
UID:2069-1696896000-1696982399@ranchoviejorotary.org
SUMMARY:NO GENERAL MEETING
DESCRIPTION:
URL:https://ranchoviejorotary.org/event/no-general-meeting-11/
LOCATION:TX
END:VEVENT
BEGIN:VEVENT
DTSTART;VALUE=DATE:20231003
DTEND;VALUE=DATE:20231004
DTSTAMP:20260423T143152
CREATED:20230927T184419Z
LAST-MODIFIED:20230927T184419Z
UID:2081-1696291200-1696377599@ranchoviejorotary.org
SUMMARY:General Meeting - Maribel Guerrero\, Mayor of the Town of Rancho Viejo
DESCRIPTION:
URL:https://ranchoviejorotary.org/event/general-meeting-maribel-guerrero-mayor-of-the-town-of-rancho-viejo/
LOCATION:TX
END:VEVENT
END:VCALENDAR