BEGIN:VCALENDAR
VERSION:2.0
PRODID:-//Rotary Club of Rancho Viejo - ECPv6.15.20//NONSGML v1.0//EN
CALSCALE:GREGORIAN
METHOD:PUBLISH
X-WR-CALNAME:Rotary Club of Rancho Viejo
X-ORIGINAL-URL:https://ranchoviejorotary.org
X-WR-CALDESC:Events for Rotary Club of Rancho Viejo
REFRESH-INTERVAL;VALUE=DURATION:PT1H
X-Robots-Tag:noindex
X-PUBLISHED-TTL:PT1H
BEGIN:VTIMEZONE
TZID:UTC
BEGIN:STANDARD
TZOFFSETFROM:+0000
TZOFFSETTO:+0000
TZNAME:UTC
DTSTART:20230101T000000
END:STANDARD
END:VTIMEZONE
BEGIN:VEVENT
DTSTART;VALUE=DATE:20250304
DTEND;VALUE=DATE:20250305
DTSTAMP:20260422T023910
CREATED:20250120T170607Z
LAST-MODIFIED:20250120T170607Z
UID:2508-1741046400-1741132799@ranchoviejorotary.org
SUMMARY:Mardi Gras
DESCRIPTION:
URL:https://ranchoviejorotary.org/event/mardi-gras/
END:VEVENT
BEGIN:VEVENT
DTSTART;VALUE=DATE:20250227
DTEND;VALUE=DATE:20250303
DTSTAMP:20260422T023910
CREATED:20250225T181356Z
LAST-MODIFIED:20250225T181501Z
UID:2564-1740614400-1740959999@ranchoviejorotary.org
SUMMARY:PETS-DFW Presidents-Elect Training Seminar
DESCRIPTION:
URL:https://ranchoviejorotary.org/event/pets-dfw-president-elect-training-seminar/
END:VEVENT
BEGIN:VEVENT
DTSTART;TZID=UTC:20250225T180000
DTEND;TZID=UTC:20250225T190000
DTSTAMP:20260422T023910
CREATED:20250120T170323Z
LAST-MODIFIED:20250120T170323Z
UID:2504-1740506400-1740510000@ranchoviejorotary.org
SUMMARY:Weekly meeting
DESCRIPTION:
URL:https://ranchoviejorotary.org/event/weekly-meeting-13/
END:VEVENT
BEGIN:VEVENT
DTSTART;TZID=UTC:20250218T180000
DTEND;TZID=UTC:20250218T190000
DTSTAMP:20260422T023910
CREATED:20250120T165912Z
LAST-MODIFIED:20250120T170020Z
UID:2496-1739901600-1739905200@ranchoviejorotary.org
SUMMARY:Club Board Meeting
DESCRIPTION:
URL:https://ranchoviejorotary.org/event/club-board-meeting/
END:VEVENT
BEGIN:VEVENT
DTSTART;VALUE=DATE:20250217
DTEND;VALUE=DATE:20250218
DTSTAMP:20260422T023910
CREATED:20250120T170246Z
LAST-MODIFIED:20250120T170246Z
UID:2502-1739750400-1739836799@ranchoviejorotary.org
SUMMARY:Presidents' Day
DESCRIPTION:
URL:https://ranchoviejorotary.org/event/presidents-day/
END:VEVENT
BEGIN:VEVENT
DTSTART;VALUE=DATE:20250214
DTEND;VALUE=DATE:20250215
DTSTAMP:20260422T023910
CREATED:20250120T170147Z
LAST-MODIFIED:20250120T170147Z
UID:2500-1739491200-1739577599@ranchoviejorotary.org
SUMMARY:Valentine's Day
DESCRIPTION:
URL:https://ranchoviejorotary.org/event/valentines-day/
END:VEVENT
BEGIN:VEVENT
DTSTART;VALUE=DATE:20250211
DTEND;VALUE=DATE:20250212
DTSTAMP:20260422T023910
CREATED:20250120T170119Z
LAST-MODIFIED:20250120T170119Z
UID:2498-1739232000-1739318399@ranchoviejorotary.org
SUMMARY:Safer Internet Day
DESCRIPTION:
URL:https://ranchoviejorotary.org/event/safer-internet-day/
END:VEVENT
BEGIN:VEVENT
DTSTART;TZID=UTC:20250204T180000
DTEND;TZID=UTC:20250204T190000
DTSTAMP:20260422T023910
CREATED:20250120T165840Z
LAST-MODIFIED:20250120T165840Z
UID:2494-1738692000-1738695600@ranchoviejorotary.org
SUMMARY:Weekly meeting
DESCRIPTION:
URL:https://ranchoviejorotary.org/event/weekly-meeting-12/
END:VEVENT
BEGIN:VEVENT
DTSTART;VALUE=DATE:20250131
DTEND;VALUE=DATE:20250201
DTSTAMP:20260422T023910
CREATED:20250120T165729Z
LAST-MODIFIED:20250120T165729Z
UID:2492-1738281600-1738367999@ranchoviejorotary.org
SUMMARY:Last Day for 50-50 Paul Harris Pin match
DESCRIPTION:
URL:https://ranchoviejorotary.org/event/last-day-for-50-50-paul-harris-pin-match/
END:VEVENT
BEGIN:VEVENT
DTSTART;TZID=UTC:20250128T180000
DTEND;TZID=UTC:20250128T190000
DTSTAMP:20260422T023910
CREATED:20250120T165626Z
LAST-MODIFIED:20250120T165626Z
UID:2490-1738087200-1738090800@ranchoviejorotary.org
SUMMARY:Weekly meeting
DESCRIPTION:Fred Hernandez – Guest Speaker
URL:https://ranchoviejorotary.org/event/weekly-meeting-11/
END:VEVENT
BEGIN:VEVENT
DTSTART;TZID=UTC:20250121T180000
DTEND;TZID=UTC:20250121T190000
DTSTAMP:20260422T023910
CREATED:20250120T165455Z
LAST-MODIFIED:20250120T165455Z
UID:2488-1737482400-1737486000@ranchoviejorotary.org
SUMMARY:Weekly Meeting
DESCRIPTION:Interact member attendance.
URL:https://ranchoviejorotary.org/event/weekly-meeting-10/
END:VEVENT
BEGIN:VEVENT
DTSTART;VALUE=DATE:20250120
DTEND;VALUE=DATE:20250121
DTSTAMP:20260422T023910
CREATED:20250120T165323Z
LAST-MODIFIED:20250120T165323Z
UID:2486-1737331200-1737417599@ranchoviejorotary.org
SUMMARY:Martin Luther King Day
DESCRIPTION:
URL:https://ranchoviejorotary.org/event/martin-luther-king-day/
END:VEVENT
BEGIN:VEVENT
DTSTART;VALUE=DATE:20250120
DTEND;VALUE=DATE:20250121
DTSTAMP:20260422T023910
CREATED:20250120T165255Z
LAST-MODIFIED:20250120T165255Z
UID:2484-1737331200-1737417599@ranchoviejorotary.org
SUMMARY:Happy Birthday - Claudio Reyes
DESCRIPTION:
URL:https://ranchoviejorotary.org/event/happy-birthday-claudio-reyes/
END:VEVENT
BEGIN:VEVENT
DTSTART;TZID=UTC:20241231T080000
DTEND;TZID=UTC:20241231T170000
DTSTAMP:20260422T023910
CREATED:20241001T155830Z
LAST-MODIFIED:20241001T155830Z
UID:2458-1735632000-1735664400@ranchoviejorotary.org
SUMMARY:Make-Up your Mind Day
DESCRIPTION:
URL:https://ranchoviejorotary.org/event/make-up-your-mind-day/
END:VEVENT
BEGIN:VEVENT
DTSTART;TZID=UTC:20241231T080000
DTEND;TZID=UTC:20241231T170000
DTSTAMP:20260422T023910
CREATED:20241001T154905Z
LAST-MODIFIED:20241001T154905Z
UID:2442-1735632000-1735664400@ranchoviejorotary.org
SUMMARY:New Year's Eve
DESCRIPTION:
URL:https://ranchoviejorotary.org/event/new-years-eve/
END:VEVENT
BEGIN:VEVENT
DTSTART;TZID=UTC:20241229T080000
DTEND;TZID=UTC:20241229T170000
DTSTAMP:20260422T023910
CREATED:20241001T155741Z
LAST-MODIFIED:20241001T155752Z
UID:2456-1735459200-1735491600@ranchoviejorotary.org
SUMMARY:"Our greatest glory is not in never failing\, but in rising up every time we fail." -Ralph Waldo Emerson
DESCRIPTION:
URL:https://ranchoviejorotary.org/event/our-greatest-glory-is-not-in-never-failing-but-in-rising-up-every-time-we-fail-ralph-waldo-emerson/
END:VEVENT
BEGIN:VEVENT
DTSTART;TZID=UTC:20241225T080000
DTEND;TZID=UTC:20250102T170000
DTSTAMP:20260422T023910
CREATED:20241001T153829Z
LAST-MODIFIED:20241001T153829Z
UID:2432-1735113600-1735837200@ranchoviejorotary.org
SUMMARY:Hanukkah
DESCRIPTION:
URL:https://ranchoviejorotary.org/event/hanukkah/
END:VEVENT
BEGIN:VEVENT
DTSTART;TZID=UTC:20241225T080000
DTEND;TZID=UTC:20241225T170000
DTSTAMP:20260422T023910
CREATED:20241001T153716Z
LAST-MODIFIED:20241001T153716Z
UID:2430-1735113600-1735146000@ranchoviejorotary.org
SUMMARY:Merry Christmas
DESCRIPTION:
URL:https://ranchoviejorotary.org/event/merry-christmas/
END:VEVENT
BEGIN:VEVENT
DTSTART;TZID=UTC:20241224T080000
DTEND;TZID=UTC:20241224T170000
DTSTAMP:20260422T023910
CREATED:20241001T155902Z
LAST-MODIFIED:20241001T155902Z
UID:2460-1735027200-1735059600@ranchoviejorotary.org
SUMMARY:Eggnog Day
DESCRIPTION:
URL:https://ranchoviejorotary.org/event/eggnog-day/
END:VEVENT
BEGIN:VEVENT
DTSTART;TZID=UTC:20241222T080000
DTEND;TZID=UTC:20241222T170000
DTSTAMP:20260422T023910
CREATED:20241001T155637Z
LAST-MODIFIED:20241001T155637Z
UID:2454-1734854400-1734886800@ranchoviejorotary.org
SUMMARY:"Blessed is the season which engages the whole world in a conspiracy of LOVE!" - Hamilton Wright Mable
DESCRIPTION:
URL:https://ranchoviejorotary.org/event/blessed-is-the-season-which-engages-the-whole-world-in-a-conspiracy-of-love-hamilton-wright-mable/
END:VEVENT
BEGIN:VEVENT
DTSTART;TZID=UTC:20241221T080000
DTEND;TZID=UTC:20241221T170000
DTSTAMP:20260422T023910
CREATED:20241001T154225Z
LAST-MODIFIED:20241001T154225Z
UID:2438-1734768000-1734800400@ranchoviejorotary.org
SUMMARY:First Day of Winter
DESCRIPTION:
URL:https://ranchoviejorotary.org/event/first-day-of-winter/
END:VEVENT
BEGIN:VEVENT
DTSTART;TZID=UTC:20241217T180000
DTEND;TZID=UTC:20241217T190000
DTSTAMP:20260422T023910
CREATED:20241001T153619Z
LAST-MODIFIED:20241001T153619Z
UID:2428-1734458400-1734462000@ranchoviejorotary.org
SUMMARY:Weekly Meeting - Tentative : Nursery Home Speaker
DESCRIPTION:
URL:https://ranchoviejorotary.org/event/weekly-meeting-tentative-nursery-home-speaker/
END:VEVENT
BEGIN:VEVENT
DTSTART;TZID=UTC:20241217T080000
DTEND;TZID=UTC:20241217T170000
DTSTAMP:20260422T023910
CREATED:20241001T155943Z
LAST-MODIFIED:20241001T155943Z
UID:2462-1734422400-1734454800@ranchoviejorotary.org
SUMMARY:Wright Brothers day
DESCRIPTION:
URL:https://ranchoviejorotary.org/event/wright-brothers-day/
END:VEVENT
BEGIN:VEVENT
DTSTART;TZID=UTC:20241217T080000
DTEND;TZID=UTC:20241217T170000
DTSTAMP:20260422T023910
CREATED:20241001T154309Z
LAST-MODIFIED:20241001T154334Z
UID:2440-1734422400-1734454800@ranchoviejorotary.org
SUMMARY:Christmas Angels Nursing Home Service Project
DESCRIPTION:
URL:https://ranchoviejorotary.org/event/christmas-angels-nursing-home-service-project/
END:VEVENT
BEGIN:VEVENT
DTSTART;TZID=UTC:20241216T180000
DTEND;TZID=UTC:20241216T190000
DTSTAMP:20260422T023910
CREATED:20241001T155009Z
LAST-MODIFIED:20241001T155009Z
UID:2444-1734372000-1734375600@ranchoviejorotary.org
SUMMARY:District-Wide New member Orientation via zoom
DESCRIPTION:
URL:https://ranchoviejorotary.org/event/district-wide-new-member-orientation-via-zoom-2/
END:VEVENT
BEGIN:VEVENT
DTSTART;TZID=UTC:20241215T080000
DTEND;TZID=UTC:20241215T170000
DTSTAMP:20260422T023910
CREATED:20241001T155425Z
LAST-MODIFIED:20241001T155425Z
UID:2452-1734249600-1734282000@ranchoviejorotary.org
SUMMARY:Bill of rights Day. "The greatest gift you ever give is your honest self." - Fred Rogers
DESCRIPTION:
URL:https://ranchoviejorotary.org/event/bill-of-rights-day-the-greatest-gift-you-ever-give-is-your-honest-self-fred-rogers/
END:VEVENT
BEGIN:VEVENT
DTSTART;TZID=UTC:20241214T080000
DTEND;TZID=UTC:20241214T170000
DTSTAMP:20260422T023910
CREATED:20241001T154143Z
LAST-MODIFIED:20241001T154143Z
UID:2436-1734163200-1734195600@ranchoviejorotary.org
SUMMARY:Happy Birthday - Gale Armstrong
DESCRIPTION:
URL:https://ranchoviejorotary.org/event/happy-birthday-gale-armstrong/
END:VEVENT
BEGIN:VEVENT
DTSTART;TZID=UTC:20241213T080000
DTEND;TZID=UTC:20241213T170000
DTSTAMP:20260422T023910
CREATED:20241001T153450Z
LAST-MODIFIED:20241001T153504Z
UID:2425-1734076800-1734109200@ranchoviejorotary.org
SUMMARY:Tentative - Club Christmas Social (Time & Location TBD)
DESCRIPTION:
URL:https://ranchoviejorotary.org/event/tentative-club-christmas-social-time-and-location-tbd/
END:VEVENT
BEGIN:VEVENT
DTSTART;TZID=UTC:20241210T080000
DTEND;TZID=UTC:20241210T170000
DTSTAMP:20260422T023910
CREATED:20241001T153355Z
LAST-MODIFIED:20241001T153355Z
UID:2423-1733817600-1733850000@ranchoviejorotary.org
SUMMARY:Tentative - International Service Project in Matamoros
DESCRIPTION:
URL:https://ranchoviejorotary.org/event/tentative-international-service-project-in-matamoros/
END:VEVENT
BEGIN:VEVENT
DTSTART;TZID=UTC:20241209T080000
DTEND;TZID=UTC:20241209T170000
DTSTAMP:20260422T023910
CREATED:20241001T160052Z
LAST-MODIFIED:20241001T160052Z
UID:2464-1733731200-1733763600@ranchoviejorotary.org
SUMMARY:Rotary Convention in Calgary\, Canada (reminder to register)
DESCRIPTION:
URL:https://ranchoviejorotary.org/event/rotary-convention-in-calgary-canada-reminder-to-register/
END:VEVENT
END:VCALENDAR